BEGIN:VCALENDAR
VERSION:2.0
CALSCALE:GREGORIAN
PRODID:adamgibbons/ics
METHOD:PUBLISH
X-PUBLISHED-TTL:PT1H
BEGIN:VEVENT
UID:8NOTV2-5cz3FPB0HXKKfF
SUMMARY:✈ UA 1503 EWR → JAC
DTSTAMP:20260424T024802Z
DTSTART:20261220T091000Z
DESCRIPTION:Cabin: Polaris\nSeat: 3A/3B\nPNR: XYZ1AB
LOCATION:EWR → JAC
DURATION:PT3H
END:VEVENT
BEGIN:VEVENT
UID:pZz7y5mbBvN8MAtjLN9Kg
SUMMARY:Transfer — JAC arrivals → Four Seasons Jackson Hole
DTSTAMP:20260424T024802Z
DTSTART:20261220T141500Z
DESCRIPTION:Vendor: Four Seasons Transportation
DURATION:PT1H
END:VEVENT
BEGIN:VEVENT
UID:inf9HPsCKXeJHseqGJjNe
SUMMARY:Hotel — Four Seasons Resort Jackson Hole
DTSTAMP:20260424T024802Z
DTSTART:20261220T160000Z
DESCRIPTION:2BR Family Suite\nFamily Program\nConf FSJH-2026-1220
LOCATION:7680 Granite Loop Rd\, Teton Village WY
DURATION:PT18H
END:VEVENT
BEGIN:VEVENT
UID:FIdlYPtZRCHEP1WAiuc51
SUMMARY:✦ Private ski guide — half day
DTSTAMP:20260424T024802Z
DTSTART:20261221T090000Z
DESCRIPTION:Guide will meet at boot concierge at 8:45\nConf PSG-2026-A
LOCATION:Jackson Hole Mountain Resort
DURATION:PT2H
END:VEVENT
BEGIN:VEVENT
UID:-Bw6qq3zhS9GTz5lAR0ke
SUMMARY:✦ Private ski guide — full day
DTSTAMP:20260424T024802Z
DTSTART:20261223T083000Z
DESCRIPTION:Weather-dependent heli-drop add-on available
LOCATION:JHMR + backcountry
DURATION:PT2H
END:VEVENT
BEGIN:VEVENT
UID:hlf3EC6w5XfL9dkkBcHyv
SUMMARY:✦ Sleigh-ride dinner
DTSTAMP:20260424T024802Z
DTSTART:20261225T174500Z
DESCRIPTION:Warm layers\; hot cocoa en route\nConf DCR-2026-Dec21
LOCATION:Diamond Cross Ranch
DURATION:PT2H
END:VEVENT
BEGIN:VEVENT
UID:unfWItlp_zmEqk_oHDkxV
SUMMARY:✈ UA 1502 JAC → EWR
DTSTAMP:20260424T024802Z
DTSTART:20261227T143000Z
DESCRIPTION:Cabin: Polaris\nSeat: 3A/3B\nPNR: XYZ1AB
LOCATION:JAC → EWR
DURATION:PT3H
END:VEVENT
END:VCALENDAR
