BEGIN:VCALENDAR
VERSION:2.0
CALSCALE:GREGORIAN
PRODID:adamgibbons/ics
METHOD:PUBLISH
X-PUBLISHED-TTL:PT1H
BEGIN:VEVENT
UID:9nqvsoFUw_wNISj6BcCDL
SUMMARY:✦ Private ski guide — half day
DTSTAMP:20260424T025217Z
DTSTART:20261221T090000Z
DESCRIPTION:Guide will meet at boot concierge at 8:45\nConf PSG-2026-A
LOCATION:Jackson Hole Mountain Resort
DURATION:PT2H
END:VEVENT
END:VCALENDAR
