BEGIN:VCALENDAR
VERSION:2.0
CALSCALE:GREGORIAN
PRODID:adamgibbons/ics
METHOD:PUBLISH
X-PUBLISHED-TTL:PT1H
BEGIN:VEVENT
UID:R5DWnRZBmR7hxjIlfkdHO
SUMMARY:✦ Sleigh-ride dinner
DTSTAMP:20260424T025202Z
DTSTART:20261225T174500Z
DESCRIPTION:Warm layers\; hot cocoa en route\nConf DCR-2026-Dec21
LOCATION:Diamond Cross Ranch
DURATION:PT2H
END:VEVENT
END:VCALENDAR
