BEGIN:VCALENDAR
VERSION:2.0
CALSCALE:GREGORIAN
PRODID:adamgibbons/ics
METHOD:PUBLISH
X-PUBLISHED-TTL:PT1H
BEGIN:VEVENT
UID:mrqxYM3w2usNkkJxiI-Jv
SUMMARY:✈ UA 1503 EWR → JAC
DTSTAMP:20260424T025253Z
DTSTART:20261220T091000Z
DESCRIPTION:Cabin: Polaris\nSeat: 3A/3B\nPNR: XYZ1AB
LOCATION:EWR → JAC
DURATION:PT3H
END:VEVENT
END:VCALENDAR
