BEGIN:VCALENDAR
VERSION:2.0
CALSCALE:GREGORIAN
PRODID:adamgibbons/ics
METHOD:PUBLISH
X-PUBLISHED-TTL:PT1H
BEGIN:VEVENT
UID:0rmX_uUvLCMQTssXSkQ54
SUMMARY:✈ DL 264 JFK → CDG
DTSTAMP:20260424T024105Z
DTSTART:20260502T192000Z
DESCRIPTION:Cabin: One\nSeat: 2A/2B\nPNR: XDQ92P
LOCATION:JFK → CDG
DURATION:PT3H
END:VEVENT
END:VCALENDAR
