BEGIN:VCALENDAR
VERSION:2.0
CALSCALE:GREGORIAN
PRODID:adamgibbons/ics
METHOD:PUBLISH
X-PUBLISHED-TTL:PT1H
BEGIN:VEVENT
UID:6FYaYgUHBwmKrtBhABbgi
SUMMARY:✈ DL 265 CDG → JFK
DTSTAMP:20260424T024115Z
DTSTART:20260505T103500Z
DESCRIPTION:Cabin: One\nSeat: 2A/2B\nPNR: XDQ92P
LOCATION:CDG → JFK
DURATION:PT3H
END:VEVENT
END:VCALENDAR
