BEGIN:VCALENDAR
VERSION:2.0
CALSCALE:GREGORIAN
PRODID:adamgibbons/ics
METHOD:PUBLISH
X-PUBLISHED-TTL:PT1H
BEGIN:VEVENT
UID:hcyCg7TkyDvIt90yXXC9s
SUMMARY:Transfer — CDG arrivals → Ritz Paris\, 15 Place Vendôme
DTSTAMP:20260424T024421Z
DTSTART:20260502T091500Z
DESCRIPTION:Vendor: Ritz Paris Limousine
DURATION:PT1H
END:VEVENT
END:VCALENDAR
