BEGIN:VCALENDAR
VERSION:2.0
CALSCALE:GREGORIAN
PRODID:adamgibbons/ics
METHOD:PUBLISH
X-PUBLISHED-TTL:PT1H
BEGIN:VEVENT
UID:tTf5OTqa2FnSbKJ9dfKxj
SUMMARY:Transfer — Ritz Paris → CDG departures Terminal 2E
DTSTAMP:20260424T024512Z
DTSTART:20260505T080000Z
DURATION:PT1H
END:VEVENT
END:VCALENDAR
